BEGIN:VCALENDAR
VERSION:2.0
PRODID:-//Tukios.com/
BEGIN:VEVENT
UID:ebd2862c-15df-4274-a625-6191158479ed@www.shiversfuneralchapel.com
DTSTAMP:20260420T225442Z
DTSTART:20260427T150000Z
DTEND:20260427T160000Z
SUMMARY:Celebration of Life
DESCRIPTION:
URL:https://www.shiversfuneralchapel.com/obituaries/fostiletta-major
LOCATION: 13468 Waterworks Rd  Smithfield VA 23430
GEO:36.9802057;-76.6862384
END:VEVENT
END:VCALENDAR