BEGIN:VCALENDAR
VERSION:2.0
PRODID:-//Tukios.com/
BEGIN:VEVENT
UID:f9b03297-702e-4c1a-9f9b-5e0d8ff52a77@www.shiversfuneralchapel.com
DTSTAMP:20260420T224750Z
DTSTART:20260426T180000Z
DTEND:20260426T210000Z
SUMMARY:Viewing
DESCRIPTION:
URL:https://www.shiversfuneralchapel.com/obituaries/fostiletta-major
LOCATION:Shivers Funeral Chapel 12749 Courthouse Hwy  Smithfield VA 23430
GEO:36.966429;-76.6597717
END:VEVENT
END:VCALENDAR